BEGIN:VCALENDAR
VERSION:2.0
PRODID:-//Saltsjö-Duvnäs Fastighetsägareförening - ECPv6.15.17//NONSGML v1.0//EN
CALSCALE:GREGORIAN
METHOD:PUBLISH
X-ORIGINAL-URL:https://saltsjo-duvnas.se
X-WR-CALDESC:Händelser för Saltsjö-Duvnäs Fastighetsägareförening
REFRESH-INTERVAL;VALUE=DURATION:PT1H
X-Robots-Tag:noindex
X-PUBLISHED-TTL:PT1H
BEGIN:VTIMEZONE
TZID:Europe/Stockholm
BEGIN:DAYLIGHT
TZOFFSETFROM:+0100
TZOFFSETTO:+0200
TZNAME:CEST
DTSTART:20240331T010000
END:DAYLIGHT
BEGIN:STANDARD
TZOFFSETFROM:+0200
TZOFFSETTO:+0100
TZNAME:CET
DTSTART:20241027T010000
END:STANDARD
BEGIN:DAYLIGHT
TZOFFSETFROM:+0100
TZOFFSETTO:+0200
TZNAME:CEST
DTSTART:20250330T010000
END:DAYLIGHT
BEGIN:STANDARD
TZOFFSETFROM:+0200
TZOFFSETTO:+0100
TZNAME:CET
DTSTART:20251026T010000
END:STANDARD
BEGIN:DAYLIGHT
TZOFFSETFROM:+0100
TZOFFSETTO:+0200
TZNAME:CEST
DTSTART:20260329T010000
END:DAYLIGHT
BEGIN:STANDARD
TZOFFSETFROM:+0200
TZOFFSETTO:+0100
TZNAME:CET
DTSTART:20261025T010000
END:STANDARD
END:VTIMEZONE
BEGIN:VEVENT
DTSTART;TZID=Europe/Stockholm:20250913T100000
DTEND;TZID=Europe/Stockholm:20250913T100000
DTSTAMP:20260423T003602
CREATED:20250316T112200Z
LAST-MODIFIED:20250602T195726Z
UID:19655-1757757600-1757757600@saltsjo-duvnas.se
SUMMARY:Duvnäsloppet 2025
DESCRIPTION:Ett familjärt – men utmanande – lopp\, med huvudsakligen lokal förankring. Loppet går genom vårt vackra – men också kuperade (!) – villasamhälle\, lördagen den 13 september. \nSÅ SKRIV REDAN NU IN\nLördagen den 13e september i era kalendrar! Samlingsplatsen är Ringparken. \nAlla kan delta! Barn eller vuxen\, vare sig du är motionär eller mer tävlingsinriktad. Det är gemenskapen som är det viktiga! Så utmana dig själv\, din familj\, dina vänner och bekanta!!!! \nDu kan läsa mer om loppet på www.duvnasloppet.se.\nDuvnäsloppet kan genomföras tack vare våra sponsorer som år efter år väljer att stötta oss. \nVI SÖKER FUNKTIONÄRER\nVill du ställa upp som funktionär är vi otroligt tacksamma för varje person som erbjuder sig att hjälpa till några timmar\nlängs banan.  Ställer man upp får\nen familjemedlem gratis startplats. \nKaffe\, mackor\, frukt och godis finns i Ringparkstugan till alla funktionärer.\nVarmt välkomna!\nönskar Saltsjö-Duvnäs Sportklubb
URL:https://saltsjo-duvnas.se/event/duvnasloppet-2/
LOCATION:Ringparken
CATEGORIES:Säsongsaktivitet - gratis,Stugan ej tillgänglig
ATTACH;FMTTYPE=image/jpeg:https://saltsjo-duvnas.se/wp-content/uploads/2015/06/Medalj_Duvnasloppet_color_JPG_2.jpg
END:VEVENT
END:VCALENDAR