BEGIN:VCALENDAR
VERSION:2.0
PRODID:-//Saltsjö-Duvnäs Fastighetsägareförening - ECPv6.15.17//NONSGML v1.0//EN
CALSCALE:GREGORIAN
METHOD:PUBLISH
X-ORIGINAL-URL:https://saltsjo-duvnas.se
X-WR-CALDESC:Händelser för Saltsjö-Duvnäs Fastighetsägareförening
REFRESH-INTERVAL;VALUE=DURATION:PT1H
X-Robots-Tag:noindex
X-PUBLISHED-TTL:PT1H
BEGIN:VTIMEZONE
TZID:Europe/Stockholm
BEGIN:DAYLIGHT
TZOFFSETFROM:+0100
TZOFFSETTO:+0200
TZNAME:CEST
DTSTART:20240331T010000
END:DAYLIGHT
BEGIN:STANDARD
TZOFFSETFROM:+0200
TZOFFSETTO:+0100
TZNAME:CET
DTSTART:20241027T010000
END:STANDARD
BEGIN:DAYLIGHT
TZOFFSETFROM:+0100
TZOFFSETTO:+0200
TZNAME:CEST
DTSTART:20250330T010000
END:DAYLIGHT
BEGIN:STANDARD
TZOFFSETFROM:+0200
TZOFFSETTO:+0100
TZNAME:CET
DTSTART:20251026T010000
END:STANDARD
BEGIN:DAYLIGHT
TZOFFSETFROM:+0100
TZOFFSETTO:+0200
TZNAME:CEST
DTSTART:20260329T010000
END:DAYLIGHT
BEGIN:STANDARD
TZOFFSETFROM:+0200
TZOFFSETTO:+0100
TZNAME:CET
DTSTART:20261025T010000
END:STANDARD
END:VTIMEZONE
BEGIN:VEVENT
DTSTART;TZID=Europe/Stockholm:20251107T180000
DTEND;TZID=Europe/Stockholm:20251107T220000
DTSTAMP:20260422T213735
CREATED:20250824T193653Z
LAST-MODIFIED:20260128T182404Z
UID:20034-1762538400-1762552800@saltsjo-duvnas.se
SUMMARY:Höstpub med Olle Nyman auktion
DESCRIPTION:Passa på att träffa både nya och gamla duvnäsbor under avslappnade former. För dig som är nyinflyttad är puben ett bra tillfälle att lära känna dina nya grannar. \nPå höstpuben i år kommer föreningen auktionera ut Saltsjö-Duvnäs planscher av Olle Nyman. Bandet These Modern Times står för musikunderhållningen under kvällen! \nVi vill påminna om att bara medlemmar (inkl. enstaka gäster) får komma in. Vi har även en närvarolista eftersom vi säljer alkohol. \nVälkomna!
URL:https://saltsjo-duvnas.se/event/hostpub-med-auktion/
CATEGORIES:Säsongsaktivitet - gratis,Stugan ej tillgänglig,Tradition
ATTACH;FMTTYPE=image/png:https://saltsjo-duvnas.se/wp-content/uploads/2026/01/Screenshot-2026-01-27-at-12.33.15.png
END:VEVENT
BEGIN:VEVENT
DTSTART;TZID=Europe/Stockholm:20251115T110000
DTEND;TZID=Europe/Stockholm:20251116T160000
DTSTAMP:20260422T213735
CREATED:20250605T094003Z
LAST-MODIFIED:20251114T113822Z
UID:19876-1763204400-1763308800@saltsjo-duvnas.se
SUMMARY:Konsthantverksdagarna 15-16 november
DESCRIPTION:✨ Konsthantverksdagar 2025! ✨ \nNu när höstmörkret sänker sig över Duvnäs lyser Ringparkstugan extra varmt. I helgen öppnar vi åter dörrarna till våra populära Konsthantverksdagar\, där lokala konsthantverkare bjuder in till en inspirerande utställning fylld av kreativitet och genuint hantverk. \nI år har vi rekordmånga utställare – fler än någonsin tidigare! Material som keramik\, textil\, trä och silversmide möts under samma tak\, och även du som varit en trogen besökare kommer garanterat att upptäcka något helt nytt. \nServeringen är öppen! Den hålls av pojkar födda 2017 från Järla Fotboll\, ett lag som till största delen består av barn som bor här i Saltsjö-Duvnäs. Kom och stötta framtidens unga fotbollsspelare medan du njuter av gott fika. \nSå här nära advent är tanken på julklappar med omtanke\, och stunder av gemenskap runt kaffebordet\, extra lockande. \nVarmt välkommen att inspireras\, umgås och handla lokal konst! \n\nÅrets utställare\nKarin Zelmerlöw\nGammal Duvnäsbo som arbetat med flera olika konsthantverk genom åren. I år visar hon bland annat stickade tröjor\, egna böcker och broderade verk. \nKarin Schmekel\nKeramiker som framför allt arbetar med drejade former. Hon gillar rena uttryck\, intressanta glasyrer och sparsam dekor. Ställer ut bruksföremål som vaser\, skålar och muggar – samt några experimentella objekt. \nhttps://drejatavkarin.lovable.app/#contact \nLovisa Backmark\nSkapar samtida konst i keramik och textil\, ofta med organiska och naturinspirerade former. Hennes skulpturer fångar rörelser och tankar – som frusna ögonblick.\nwww.lovisa-art.com \nInger Fagerberg\nTextilhantverkare med fokus på stickning. Hon designar sina egna modeller och arbetar enbart med garn i naturmaterial. \nMeith Fagerqvist\nArbetar tredimensionellt med skulptur\, ofta inspirerad av vardagliga intryck av människor och djur.\nhttps://www.meith.se/ \nLouise Oden Andersson\nDesigner som skapar praktiska och estetiska förvaringar. Hennes inspiration spänner från 1800-talets England till modern formgivning. \nSassa Pettersson\nVäver trasmattor\, dukar och underlägg av resttyger som hon ofta färgar själv. Arbetar även med rundstav i olika utföranden. \nCamilla Odenteg\nArbetar i silver och koppar och skapar både smycken och bruksföremål. Hennes filosofi: Både kropp och hem kan smyckas – låt silvret tala. \nWoodbandits (Calle & Dennis)\nSaltsjö-Duvnäs enda finsnickeri. De bygger måttbeställda\, högkvalitativa möbler. Till årets hantverksdagar visar de en unik specialkollektion av pallar i björk och ek med läder\, samt andra läderarbeten. \nEva Nagy\nTextilhantverkare med stor kärlek till naturmaterial. Skapar i garn\, tyg\, tråd och papper – från stickat och sytt till broderi och handgjorda pappersstjärnor. \nJosefin Herolf\nKeramiker inspirerad av naturens former. Skapar bruksföremål i stengods med mjuka kurvor\, organiska proportioner och ett flödande uttryck. Lekfull med texturer och glasyrer. \nLisa Isberg\nDrejar mest bruksföremål såsom koppar\, skålar\, kannor och fat. Jag gillar att man använder sakerna jag skapar\, men det kan även bli en eller annan ljusstake och vas.\nhttps://www.instagram.com/lisaisbergkeramik/\nhttps://www.instagram.com/garagetkeramik/\nMaria Norberg\nStäller ut fotoböcker med motiv från Duvnäs kulturmiljö och natur\, samt tomtesäckar\, vinbärsmarmelad och virkade grytlappar. \nAnna Maria Eiderbrant\nEfter en livskris fann hon vägen tillbaka genom skrivande och måleri\, vilket senare utvecklats till fri konstsömnad. Ställer ut målningar\, lappteknik\, bårlöpare\, väggbonader och överkast – allt framvuxet organiskt.\nAnnaMariaEiderbrant.com \n\nFrågor eller intresserad av att ställa ut nästa år?\nKontakta:\nAnna Maria Eiderbrant\nannamaria@vitalitadesign.com\n070-916 92 90 \nUtställarna är lokala konstnärer som är medlemmar eller stödmedlemmar i Saltsjö-Duvnäs Fastighetsägareförening.
URL:https://saltsjo-duvnas.se/event/konsthantverksdagarna/
LOCATION:Ringparksstugan
CATEGORIES:Säsongsaktivitet - gratis,Stugan ej tillgänglig
ATTACH;FMTTYPE=image/jpeg:https://saltsjo-duvnas.se/wp-content/uploads/2025/06/571894968_18360822973089941_8858200083044832471_n.jpg
END:VEVENT
BEGIN:VEVENT
DTSTART;TZID=Europe/Stockholm:20251130T120000
DTEND;TZID=Europe/Stockholm:20251130T160000
DTSTAMP:20260422T213735
CREATED:20240822T104833Z
LAST-MODIFIED:20250915T105442Z
UID:18137-1764504000-1764518400@saltsjo-duvnas.se
SUMMARY:Julmarknad
DESCRIPTION:Julmarknad i samarbete mellan Föräldraföreningen på Saltsjö-Duvnäs skolor och Fastighetsägareföreningen för att stärka gemenskapen bland barn\, skola och vuxna i Saltsjö-Duvnäs. En återkommande jultradition i vårt fina villasamhälle. Boka in i din kalendern nu börjar nedräkningen till julafton. \nHär kan du köpa allt som behövs för en stämningsfull och lyckad jul. \nAlla elever på Saltsjö-Duvnäs skolor jobbar tillsammans under denna dag och erbjuder bland annat: \n– hembakat fikabröd\n– julgodis\n– hembakat matbröd\n– julkransar att hänga på dörren\n– ljus\n– julblommor\n– granris till entrén\n– lotteri och fiskdamm\n– m m \nDet finns självklart en kafeteria som erbjuder fika\, glögg och varm choklad. \nUtomhus står vi också med varm glögg och säljer korv med bröd. \nVarmt välkomna önskar alla elever på Saltsjö-Duvnäs skolor och Fastighetsägareföreningen.
URL:https://saltsjo-duvnas.se/event/julmarknad-2/
LOCATION:Ringparksstugan & Ringparken
CATEGORIES:Säsongsaktivitet - gratis,Stugan ej tillgänglig,Tradition
ATTACH;FMTTYPE=image/jpeg:https://saltsjo-duvnas.se/wp-content/uploads/2023/08/julmarknadsbild.jpg
END:VEVENT
END:VCALENDAR