BEGIN:VCALENDAR
VERSION:2.0
PRODID:-//Saltsjö-Duvnäs Fastighetsägareförening - ECPv6.15.17//NONSGML v1.0//EN
CALSCALE:GREGORIAN
METHOD:PUBLISH
X-ORIGINAL-URL:https://saltsjo-duvnas.se
X-WR-CALDESC:Händelser för Saltsjö-Duvnäs Fastighetsägareförening
REFRESH-INTERVAL;VALUE=DURATION:PT1H
X-Robots-Tag:noindex
X-PUBLISHED-TTL:PT1H
BEGIN:VTIMEZONE
TZID:Europe/Stockholm
BEGIN:DAYLIGHT
TZOFFSETFROM:+0100
TZOFFSETTO:+0200
TZNAME:CEST
DTSTART:20250330T010000
END:DAYLIGHT
BEGIN:STANDARD
TZOFFSETFROM:+0200
TZOFFSETTO:+0100
TZNAME:CET
DTSTART:20251026T010000
END:STANDARD
BEGIN:DAYLIGHT
TZOFFSETFROM:+0100
TZOFFSETTO:+0200
TZNAME:CEST
DTSTART:20260329T010000
END:DAYLIGHT
BEGIN:STANDARD
TZOFFSETFROM:+0200
TZOFFSETTO:+0100
TZNAME:CET
DTSTART:20261025T010000
END:STANDARD
BEGIN:DAYLIGHT
TZOFFSETFROM:+0100
TZOFFSETTO:+0200
TZNAME:CEST
DTSTART:20270328T010000
END:DAYLIGHT
BEGIN:STANDARD
TZOFFSETFROM:+0200
TZOFFSETTO:+0100
TZNAME:CET
DTSTART:20271031T010000
END:STANDARD
END:VTIMEZONE
BEGIN:VEVENT
DTSTART;TZID=Europe/Stockholm:20260524T120000
DTEND;TZID=Europe/Stockholm:20260524T160000
DTSTAMP:20260422T152708
CREATED:20260120T105743Z
LAST-MODIFIED:20260120T110048Z
UID:20633-1779624000-1779638400@saltsjo-duvnas.se
SUMMARY:Loppis (mellan) Röda Raden
DESCRIPTION:I slutet på maj passar vi på att rensa alla förråd och säljer prylar i området till alla som vill fynda. \nVill du sälja? Det är bara att ta med eget bord och bidra till gemenskapen. \nAlla är välkomna!  \nLoppisen är mellan de röda längorna. \nVi ses där!
URL:https://saltsjo-duvnas.se/event/loppis-vid-roda-raden/
LOCATION:Röda Raden\, Strandpromenaden 27\, Saltsjö-duvnäs\, 131 50\, Sweden
CATEGORIES:Säsongsaktivitet - gratis
ATTACH;FMTTYPE=image/jpeg:https://saltsjo-duvnas.se/wp-content/uploads/2026/01/Roda_raden_Saltsjo-Duvnas_2021.jpg
END:VEVENT
END:VCALENDAR