BEGIN:VCALENDAR
VERSION:2.0
PRODID:-//Saltsjö-Duvnäs Fastighetsägareförening - ECPv6.15.17//NONSGML v1.0//EN
CALSCALE:GREGORIAN
METHOD:PUBLISH
X-WR-CALNAME:Saltsjö-Duvnäs Fastighetsägareförening
X-ORIGINAL-URL:https://saltsjo-duvnas.se
X-WR-CALDESC:Händelser för Saltsjö-Duvnäs Fastighetsägareförening
REFRESH-INTERVAL;VALUE=DURATION:PT1H
X-Robots-Tag:noindex
X-PUBLISHED-TTL:PT1H
BEGIN:VTIMEZONE
TZID:Europe/Stockholm
BEGIN:DAYLIGHT
TZOFFSETFROM:+0100
TZOFFSETTO:+0200
TZNAME:CEST
DTSTART:20240331T010000
END:DAYLIGHT
BEGIN:STANDARD
TZOFFSETFROM:+0200
TZOFFSETTO:+0100
TZNAME:CET
DTSTART:20241027T010000
END:STANDARD
BEGIN:DAYLIGHT
TZOFFSETFROM:+0100
TZOFFSETTO:+0200
TZNAME:CEST
DTSTART:20250330T010000
END:DAYLIGHT
BEGIN:STANDARD
TZOFFSETFROM:+0200
TZOFFSETTO:+0100
TZNAME:CET
DTSTART:20251026T010000
END:STANDARD
BEGIN:DAYLIGHT
TZOFFSETFROM:+0100
TZOFFSETTO:+0200
TZNAME:CEST
DTSTART:20260329T010000
END:DAYLIGHT
BEGIN:STANDARD
TZOFFSETFROM:+0200
TZOFFSETTO:+0100
TZNAME:CET
DTSTART:20261025T010000
END:STANDARD
END:VTIMEZONE
BEGIN:VEVENT
DTSTART;TZID=Europe/Stockholm:20251206T150000
DTEND;TZID=Europe/Stockholm:20251206T160000
DTSTAMP:20260423T003228
CREATED:20250603T160048Z
LAST-MODIFIED:20251126T083212Z
UID:19872-1765033200-1765036800@saltsjo-duvnas.se
SUMMARY:Julinsjungning (nytt datum)
DESCRIPTION:Vi sjunger in julen tillsammans den 6 december 2025 kl. 15.00 i RIngparksstugan.\nObservera att vi har behövt byta datum till lördagen den 6 december (ett annat datum har funnits i kalendariet).\n\nSom traditionen bjuder sjunger vi gemensamt sånger skrivna och arrangerade av Carl Bertil Agnestig. Det serveras glögg och pepparkakor.\n\nVi vill gärna att så många barn som möjligt vill vara med och gå i luciatåget. Kom klädd som tärna\, stjärngosse\, lucia\, pepparkaka eller tomte till Ringparksstugan 14.40 för en kort genomgång.\n\nFör den som vill öva på sångarna i förväg erbjuds en kort repetition den 29 november kl. 17.00 på Fiskarbacken 2.\n\nVarmt välkommen!\nLena Idermark samt Familjerna Hedblad och Hedqvist
URL:https://saltsjo-duvnas.se/event/julinsjungning/
CATEGORIES:Stugan ej tillgänglig,Tradition
ATTACH;FMTTYPE=image/png:https://saltsjo-duvnas.se/wp-content/uploads/2017/11/Julinsjungning_bskny.png
END:VEVENT
BEGIN:VEVENT
DTSTART;TZID=Europe/Stockholm:20251224T133000
DTEND;TZID=Europe/Stockholm:20251224T143000
DTSTAMP:20260423T003228
CREATED:20250826T135500Z
LAST-MODIFIED:20251220T124339Z
UID:20061-1766583000-1766586600@saltsjo-duvnas.se
SUMMARY:Julbön i Ringparkstugan
DESCRIPTION:Carl Dahlbäck från Nacka Kyrka besöker oss i år på julafton.  \nVi är många som njuter av en stunds stillhet där vi får lyssna till julens evangelium innan julfirandet sätter igång.  \nDet bjuds på sång och musik. \nKollekt kommer att tas upp.
URL:https://saltsjo-duvnas.se/event/julbon/
LOCATION:Ringparksstugan
CATEGORIES:Säsongsaktivitet - gratis,Stugan ej tillgänglig,Tradition
ATTACH;FMTTYPE=image/jpeg:https://saltsjo-duvnas.se/wp-content/uploads/2024/10/Julbild-4.jpg
END:VEVENT
BEGIN:VEVENT
DTSTART;TZID=Europe/Stockholm:20251231T234000
DTEND;TZID=Europe/Stockholm:20251231T235900
DTSTAMP:20260423T003228
CREATED:20250826T140020Z
LAST-MODIFIED:20251220T124449Z
UID:20063-1767224400-1767225540@saltsjo-duvnas.se
SUMMARY:Nyårsfirande
DESCRIPTION:En stund före tolvslaget möts alla duvnäsbor vid klockstapeln i Ringparken där det nya året kommer att ringas in. \nAlla vandrar genom byn i skenet av facklor och med korgarna fyllda av något att skåla in det nya året med. Väl framme hälsas alla välkomna\, nationalsången sjungs à cappella och tolvslaget rings in. Fint om inte raketer avfyras\, då även husdjur kommer med. En trevlig tradition är att en duvnäsbo säger några ord samt utbringar en skål vid tolvslaget. \nI år ser vi fram emot att Oscar Arrsjö kommer att tala till oss innan vi sjunger nationalsången och sedan ringer in 2026 i klocktornet i Ringparken! \n\nGod Jul och Gott Nytt År önskar styrelsen
URL:https://saltsjo-duvnas.se/event/nyarsfirande/
LOCATION:Ringparksstugan & Ringparken
CATEGORIES:Säsongsaktivitet - gratis,Stugan ej tillgänglig,Tradition
ATTACH;FMTTYPE=image/jpeg:https://saltsjo-duvnas.se/wp-content/uploads/2018/12/Nyar_2010.jpg
END:VEVENT
END:VCALENDAR