BEGIN:VCALENDAR
VERSION:2.0
PRODID:-//Saltsjö-Duvnäs Fastighetsägareförening - ECPv6.15.17//NONSGML v1.0//EN
CALSCALE:GREGORIAN
METHOD:PUBLISH
X-ORIGINAL-URL:https://saltsjo-duvnas.se
X-WR-CALDESC:Händelser för Saltsjö-Duvnäs Fastighetsägareförening
REFRESH-INTERVAL;VALUE=DURATION:PT1H
X-Robots-Tag:noindex
X-PUBLISHED-TTL:PT1H
BEGIN:VTIMEZONE
TZID:Europe/Stockholm
BEGIN:DAYLIGHT
TZOFFSETFROM:+0100
TZOFFSETTO:+0200
TZNAME:CEST
DTSTART:20250330T010000
END:DAYLIGHT
BEGIN:STANDARD
TZOFFSETFROM:+0200
TZOFFSETTO:+0100
TZNAME:CET
DTSTART:20251026T010000
END:STANDARD
BEGIN:DAYLIGHT
TZOFFSETFROM:+0100
TZOFFSETTO:+0200
TZNAME:CEST
DTSTART:20260329T010000
END:DAYLIGHT
BEGIN:STANDARD
TZOFFSETFROM:+0200
TZOFFSETTO:+0100
TZNAME:CET
DTSTART:20261025T010000
END:STANDARD
BEGIN:DAYLIGHT
TZOFFSETFROM:+0100
TZOFFSETTO:+0200
TZNAME:CEST
DTSTART:20270328T010000
END:DAYLIGHT
BEGIN:STANDARD
TZOFFSETFROM:+0200
TZOFFSETTO:+0100
TZNAME:CET
DTSTART:20271031T010000
END:STANDARD
END:VTIMEZONE
BEGIN:VEVENT
DTSTART;TZID=Europe/Stockholm:20260618T180000
DTEND;TZID=Europe/Stockholm:20260618T193000
DTSTAMP:20260422T173147
CREATED:20240130T225357Z
LAST-MODIFIED:20260325T162824Z
UID:16918-1781805600-1781811000@saltsjo-duvnas.se
SUMMARY:Lövning av midsommarstången
DESCRIPTION:Torsdagen den 18 juni kl. 18.00 i Ringparken \nPå en av årets ljusaste dagar samlas vi och lövar midsommarstången och binder också kransar till stången som ska resas på Midsommarafton i Ringparken. Det här är en gammal tradition i Saltsjö-Duvnäs som både är rolig och skapar gemenskap! \nBjörkris finns men ta med blommor om du har. \nTa gärna med dig en picknickkorg med det du vill dricka/äta.
URL:https://saltsjo-duvnas.se/event/lovning-av-midsommarstangen/
LOCATION:Ringparksstugan & Ringparken
CATEGORIES:Säsongsaktivitet - gratis,Stugan ej tillgänglig,Tradition
ATTACH;FMTTYPE=image/jpeg:https://saltsjo-duvnas.se/wp-content/uploads/2015/06/Midsommar_2011_5852.jpg
END:VEVENT
BEGIN:VEVENT
DTSTART;TZID=Europe/Stockholm:20260619T140000
DTEND;TZID=Europe/Stockholm:20260619T160000
DTSTAMP:20260422T173147
CREATED:20240130T225640Z
LAST-MODIFIED:20260325T163646Z
UID:16921-1781877600-1781884800@saltsjo-duvnas.se
SUMMARY:Midsommarfirande i Ringparken
DESCRIPTION:Nu sjunger vi och dansar in sommaren tillsammans. Ta gärna med kaffekorg och filt till Ringparken. \nPROGRAMMET SER UT SÅ HÄR:\n14.00 Åktur med skrinda runt Ringparken för alla barn\, samt lekar i parken.\n15.00 Resning av midsommarstång\n15.10 Ringdans runt stången\n15.45 Avslutning \nHör av dig till någon i styrelsen eller till info(at)saltsjo-duvnas.se om du vill hjälpa till att anordna några av aktiviteterna.
URL:https://saltsjo-duvnas.se/event/midsommarfirande-i-ringparken-2/
LOCATION:Ringparksstugan & Ringparken
CATEGORIES:Säsongsaktivitet - gratis,Stugan ej tillgänglig,Tradition
ATTACH;FMTTYPE=image/png:https://saltsjo-duvnas.se/wp-content/uploads/2024/01/cropped-cropped-Screenshot-2024-01-31-at-00.38.57.png
END:VEVENT
END:VCALENDAR