BEGIN:VCALENDAR
VERSION:2.0
PRODID:-//Saltsjö-Duvnäs Fastighetsägareförening - ECPv6.15.17//NONSGML v1.0//EN
CALSCALE:GREGORIAN
METHOD:PUBLISH
X-WR-CALNAME:Saltsjö-Duvnäs Fastighetsägareförening
X-ORIGINAL-URL:https://saltsjo-duvnas.se
X-WR-CALDESC:Händelser för Saltsjö-Duvnäs Fastighetsägareförening
REFRESH-INTERVAL;VALUE=DURATION:PT1H
X-Robots-Tag:noindex
X-PUBLISHED-TTL:PT1H
BEGIN:VTIMEZONE
TZID:Europe/Stockholm
BEGIN:DAYLIGHT
TZOFFSETFROM:+0100
TZOFFSETTO:+0200
TZNAME:CEST
DTSTART:20240331T010000
END:DAYLIGHT
BEGIN:STANDARD
TZOFFSETFROM:+0200
TZOFFSETTO:+0100
TZNAME:CET
DTSTART:20241027T010000
END:STANDARD
BEGIN:DAYLIGHT
TZOFFSETFROM:+0100
TZOFFSETTO:+0200
TZNAME:CEST
DTSTART:20250330T010000
END:DAYLIGHT
BEGIN:STANDARD
TZOFFSETFROM:+0200
TZOFFSETTO:+0100
TZNAME:CET
DTSTART:20251026T010000
END:STANDARD
BEGIN:DAYLIGHT
TZOFFSETFROM:+0100
TZOFFSETTO:+0200
TZNAME:CEST
DTSTART:20260329T010000
END:DAYLIGHT
BEGIN:STANDARD
TZOFFSETFROM:+0200
TZOFFSETTO:+0100
TZNAME:CET
DTSTART:20261025T010000
END:STANDARD
END:VTIMEZONE
BEGIN:VEVENT
DTSTART;TZID=Europe/Stockholm:20251224T133000
DTEND;TZID=Europe/Stockholm:20251224T143000
DTSTAMP:20260423T020226
CREATED:20250826T135500Z
LAST-MODIFIED:20251220T124339Z
UID:20061-1766583000-1766586600@saltsjo-duvnas.se
SUMMARY:Julbön i Ringparkstugan
DESCRIPTION:Carl Dahlbäck från Nacka Kyrka besöker oss i år på julafton.  \nVi är många som njuter av en stunds stillhet där vi får lyssna till julens evangelium innan julfirandet sätter igång.  \nDet bjuds på sång och musik. \nKollekt kommer att tas upp.
URL:https://saltsjo-duvnas.se/event/julbon/
LOCATION:Ringparksstugan
CATEGORIES:Säsongsaktivitet - gratis,Stugan ej tillgänglig,Tradition
ATTACH;FMTTYPE=image/jpeg:https://saltsjo-duvnas.se/wp-content/uploads/2024/10/Julbild-4.jpg
END:VEVENT
END:VCALENDAR